BEGIN:VCALENDAR
VERSION:2.0
PRODID:-//NETGEV - ECPv4.9.10//NONSGML v1.0//EN
CALSCALE:GREGORIAN
METHOD:PUBLISH
X-WR-CALNAME:NETGEV
X-ORIGINAL-URL:https://netgev.co.il
X-WR-CALDESC:אירועים ל NETGEV
BEGIN:VTIMEZONE
TZID:Asia/Jerusalem
BEGIN:DAYLIGHT
TZOFFSETFROM:+0200
TZOFFSETTO:+0300
TZNAME:IDT
DTSTART:20180323T000000
END:DAYLIGHT
BEGIN:STANDARD
TZOFFSETFROM:+0300
TZOFFSETTO:+0200
TZNAME:IST
DTSTART:20181027T230000
END:STANDARD
END:VTIMEZONE
BEGIN:VEVENT
DTSTART;TZID=Asia/Jerusalem:20180416T180000
DTEND;TZID=Asia/Jerusalem:20180416T193000
DTSTAMP:20210508T092733
CREATED:20180612T144431Z
LAST-MODIFIED:20180612T144431Z
UID:1890-1523901600-1523907000@netgev.co.il
SUMMARY:From an idea to a million dollar company
DESCRIPTION:איך הופכים רעיון מעולה לסטרטאפ? מה הדרכים למציאת שותפים? וממה צריך להיזהר בתהליך הקמת עסק? \n\nמה בתוכנית?\n  \nאברהים סאנע מנכ"ל חברת Sadel Tech ושותף מייסד בסטרטאפ pakalot יספר לנו על הדרך להקמת סטרטאפ מוצלח. \nהמיטאפ יתקיים במתחם NETGEV חורה\, ביום שני ה-16.4\, בשעה 18:00\, בשיתוף אקסלרטור HYBRID המלווה יזמים טכנולוגיים ועסקיים מהחברה הערבית. \nאז אם תמיד חלמתם על הקמת סטרטאפ ולא ידעתם איך? הצטרפו אלינו ושמעו ממיטב המוחות בתעשיית ההייטק בישראל. \n
URL:https://netgev.co.il/events/from-an-idea-to-a-million-dollar-company/
LOCATION:חורה | NETGEV Hura\, אלסלאם 6\, חורה\, דרום\, Israel
CATEGORIES:יזמות ועסקים,מיטאפ
ATTACH;FMTTYPE=image/jpeg:https://netgev.co.il/wp-content/uploads/2018/06/29597488_1945645779082323_5104509237501562612_n.jpg
END:VEVENT
END:VCALENDAR