BEGIN:VCALENDAR
VERSION:2.0
PRODID:-//NETGEV - ECPv4.9.10//NONSGML v1.0//EN
CALSCALE:GREGORIAN
METHOD:PUBLISH
X-WR-CALNAME:NETGEV
X-ORIGINAL-URL:https://netgev.co.il
X-WR-CALDESC:אירועים ל NETGEV
BEGIN:VTIMEZONE
TZID:Asia/Jerusalem
BEGIN:DAYLIGHT
TZOFFSETFROM:+0200
TZOFFSETTO:+0300
TZNAME:IDT
DTSTART:20180323T000000
END:DAYLIGHT
BEGIN:STANDARD
TZOFFSETFROM:+0300
TZOFFSETTO:+0200
TZNAME:IST
DTSTART:20181027T230000
END:STANDARD
END:VTIMEZONE
BEGIN:VEVENT
DTSTART;TZID=Asia/Jerusalem:20180131T170000
DTEND;TZID=Asia/Jerusalem:20180131T200000
DTSTAMP:20210501T034300
CREATED:20180109T172721Z
LAST-MODIFIED:20180109T172801Z
UID:1814-1517418000-1517428800@netgev.co.il
SUMMARY:קורס מסחר באמאזון
DESCRIPTION:ללמוד כיצד לסחור באמאזון – ללא סיכונים כלל!\nבחיים צריך לדעת לזהות הזדמנויות – לפניכם הזדמנות מדהימה!\nNETGEV חורה מזמין אתכם להירשם לקורס מסחר באמאזון בסבסוד משרד הכלכלה!\nקורס בהיקף 35 שעות אקדמאיות שיעניק לכם את הידע הנכון איתו תוכלו לצאת לפעולה כבר במהלך הקורס!\nעלות הקורס רק 799 ש"ח!\n(עלות ממוצעת בשוק: 5\,000 ש"ח) \n\nאתר המכירות Amazon החל את דרכו באמצע שנות התשעים כחנות אונליין למכירת ספרים. עם השנים הוא התפתח וצמח והחל לאפשר למכור מגוון עצום של מוצרים. היום אמזון מהווה את זירת המסחר המקוון הגדולה בעולם. יותר מ – 200 מיליון לקוחות עושים בה שימוש וחברים בה מוכרים ממדינות ברחבי העולם. אלפי אנשים בוחרים להקים חנות באתר וכך ליצור לעצמם הכנסה חודשית דרך מכירת מוצרים משלל סוגים. \n\nהרצאת פתיחה – תפיסה שיווקית למכירות בזירות מסחר מקוון\nהדרכים לשיווק והתאמתם לסחר עולמי\nמבוא לאמזון: היכרות עם האתר\, פתיחת חשבון ומסחר\nאיך למצוא הזדמנויות למסחר ולהרוויח מהם כסף\nאיך לקדם את השיווק באמזון ולשווק בצורה הנכונה\nפרסום המוצרים ברשת\, סיכום הקורס\, חזרה\, תרגול ונושאים מתקדמים\n\n\nהפרטים הקטנים:\nהקורס מתקיים במשרדי NETGEV חורה (רחוב אלסלאם 358)\nמשך הקורס 7 מפגשים וכולל 35 שעות אקדמאיות.\nשעות הקורס 17:00-20:00\nתאריך תחילת הקורס: 31/1 ויתקיים אחת לשבוע בימי רביעי \n\n\n
URL:https://netgev.co.il/events/%d7%a7%d7%95%d7%a8%d7%a1-%d7%9e%d7%a1%d7%97%d7%a8-%d7%91%d7%90%d7%9e%d7%90%d7%96%d7%95%d7%9f/2018-01-31/
LOCATION:חורה | NETGEV Hura\, אלסלאם 6\, חורה\, דרום\, Israel
CATEGORIES:מסחר באמאזון,קורסים
ATTACH;FMTTYPE=image/png:https://netgev.co.il/wp-content/uploads/2018/01/ebay_amazon_0.png
ORGANIZER;CN="%D7%9E%D7%A2%D7%95%D7%A3%20%D7%A0%D7%92%D7%91%20%D7%9E%D7%96%D7%A8%D7%97%D7%99":MAILTO:dimona@4.maof.co.il
END:VEVENT
END:VCALENDAR