BEGIN:VCALENDAR
VERSION:2.0
PRODID:-//NETGEV - ECPv4.9.10//NONSGML v1.0//EN
CALSCALE:GREGORIAN
METHOD:PUBLISH
X-WR-CALNAME:NETGEV
X-ORIGINAL-URL:https://netgev.co.il
X-WR-CALDESC:אירועים ל NETGEV
BEGIN:VTIMEZONE
TZID:Asia/Jerusalem
BEGIN:DAYLIGHT
TZOFFSETFROM:+0200
TZOFFSETTO:+0300
TZNAME:IDT
DTSTART:20180323T000000
END:DAYLIGHT
BEGIN:STANDARD
TZOFFSETFROM:+0300
TZOFFSETTO:+0200
TZNAME:IST
DTSTART:20181027T230000
END:STANDARD
END:VTIMEZONE
BEGIN:VEVENT
DTSTART;TZID=Asia/Jerusalem:20180422T170000
DTEND;TZID=Asia/Jerusalem:20180422T183000
DTSTAMP:20210508T092427
CREATED:20180612T152729Z
LAST-MODIFIED:20180612T152729Z
UID:1904-1524416400-1524421800@netgev.co.il
SUMMARY:עסקים ומיסים - איך זה עובד יחד?
DESCRIPTION:עסקים ומיסים\nביום ראשון ה- 22/4/2018\, במתחם NETGEV חורה\, נלמד איך להתנהל נכון מול רשויות המס ולחסוך כסף! \n\nמה נשמע שם?\n\nאיך פותחים תיק במס הכנסה לעצמאיים/ עסקים\nהתנהלות תקינה רשויות המיסים\nאיך להתנהל באופן חסכוני\nכיצד חוסכים בעלויות\n\n\nעל המרצה:\nאיאד אחמד – רואה חשבון\, מומחה בתחום המס והמגזר השלישי ומרצה במכללה האקדמית ספיר. \n
URL:https://netgev.co.il/events/%d7%a2%d7%a1%d7%a7%d7%99%d7%9d-%d7%95%d7%9e%d7%99%d7%a1%d7%99%d7%9d-%d7%90%d7%99%d7%9a-%d7%96%d7%94-%d7%a2%d7%95%d7%91%d7%93-%d7%99%d7%97%d7%93/
LOCATION:חורה | NETGEV Hura\, אלסלאם 6\, חורה\, דרום\, Israel
CATEGORIES:בעלי עסקים,הרצאות
ATTACH;FMTTYPE=image/jpeg:https://netgev.co.il/wp-content/uploads/2018/06/31180269_1955811694732398_9209142634109468672_n.jpg
END:VEVENT
END:VCALENDAR